0.406316298403271550
-0.000187452376822871740
-0.000104157997257808410
-0.406668839927164240
653783.55620729155
4538175.8281657668
