0.406214020906460030
-0.00216561041816864350
-0.00202198240223354230
-0.406468799202574500
653738.61345113057
4536175.4806875354
