0.406253326527274420
-0.0000457228852380256380
0.0000308376742035253410
-0.406502556500389580
653783.08369483985
4534169.6136555970
