0.406257981551797430
0.00104661056998672350
0.00119552961801062020
-0.406586274514561810
653745.92461681715
4532169.9831599016
