0.406342979808020200
-0.000173882591652748290
-0.0000415103404249916030
-0.406473696720482000
653783.73570788116
4530174.8286403818
