0.406324868422147710
-0.000320777728548666450
-0.000270434202117372220
-0.406690798813310440
653756.25950140832
4512172.9787868150
