0.406242847437204290
-0.000400280962964715980
-0.000385176374588407100
-0.406398039327515670
653785.16011697461
4510173.7892551031
