0.406233081755074170
0.0000579762019862718540
0.000143411472338524440
-0.406604615190887480
653754.55860643578
4508170.3416607557
