0.406188918657971630
-0.000178253409785199740
-0.000108812576951809840
-0.406395043711809180
653783.83499439480
4504173.0082469191
