0.406234207880371180
0.0000940627474568864060
0.000146197831834909180
-0.406497727392466650
653783.87503542658
4502171.6864067186
