0.406153192978789490
-0.000202190905184374680
-0.0000999396175745629610
-0.406254118030922260
651784.51887848042
4532176.4941754052
