0.406221884624915540
-0.000653306279899457110
-0.000631321017050971860
-0.406203882804552880
651748.65832294733
4530174.2057031058
