0.406203207584766910
0.000632875522058686400
0.000603360601834720670
-0.406353947555411770
651783.98165608069
4528172.3608694794
