0.406127752346870760
-0.000126240866327448210
-0.0000562433964362146290
-0.406442625016120110
651741.86767694971
4526172.5939164590
