0.406220892744182550
-0.00105918860486989070
-0.00103428951423382900
-0.406394410323533570
651750.41495210642
4510170.6169067184
