0.406244945543569770
-0.000581573931809172410
-0.000495339281660003610
-0.406485565770732970
651748.16545714904
4508173.9092674470
