0.406204552234067760
-0.00155701631267630650
-0.00146978921449696210
-0.406332096672218310
651751.18987307756
4504182.3080922896
