0.406201967852898190
-0.000848110160722018390
-0.000780078954776641450
-0.406409252569610970
651784.21551493858
4502173.9517751830
