0.406254590277728590
-0.000497522281752070160
-0.000411743528607332280
-0.406500843451802650
651760.70973135461
4500175.8606821178
