0.406302664957295060
-0.00116897843904785040
-0.00108062034886664480
-0.406669444258454190
649748.15893562231
4532177.7129200893
