0.406353522119821790
0.000223346195029278370
0.000350638255027091090
-0.406507088634962040
649783.98151460546
4530170.3116056034
