0.406209097576153700
-0.000896668114500898330
-0.000784996107727783340
-0.406416739641344170
649747.40608205227
4528173.9274901086
