0.406398290556563620
0.0000640007901873145850
0.0000894533296281750420
-0.406579332553855590
649744.62338655943
4526171.5818595523
