0.406275023303866780
-0.000784234546437711130
-0.000719962430839734000
-0.406419171869730200
649758.85107649001
4510175.0812625512
