0.406290562225076480
-0.000756425688824704760
-0.000710439923120283980
-0.406517283453706630
649748.25064050453
4508176.0602675322
