0.406186013340953440
-0.000813725672081666960
-0.000848627022626309050
-0.406362579177527610
649750.44897438318
4504173.4319217373
