0.406230850483196020
-0.000505370110517183720
-0.000352747226772719460
-0.406611000166877850
649748.36576970061
4502171.1673247544
