0.406197871264645240
-0.000322028901173489750
-0.000228693793437782190
-0.406461123489685940
649784.46561511292
4500174.9040052248
