0.406319199181939650
-0.000823203976885172800
-0.000846378874301214280
-0.406579102092407000
647759.76623038866
4532171.8114893688
