0.406276518742374360
-0.000617544944821617790
-0.000483374631121191400
-0.406371457469307080
647785.54799762508
4530176.7682297295
