0.406274256462565040
-0.000191949820007700210
-0.000155397668675530870
-0.406533342574550700
647756.42409805127
4510174.6969210198
