0.406388236067265710
-0.000613559370055606120
-0.000501438099577473210
-0.406464212135866860
647783.62269737443
4508177.3146890895
