0.406402089347441760
-0.000913931682851417000
-0.000810002004799520250
-0.406621611850837730
647750.98628444120
4504175.5734273214
