0.406240041210557570
-0.000615019134793294760
-0.000591590267284004090
-0.406460867076971710
647783.22374602128
4502173.1844283463
