0.406252364475131580
-0.00117872382445126380
-0.00106509321776726430
-0.406377238582010030
647756.32087876240
4500180.9192075357
