0.406372130534976060
0.00000789445682565454380
-0.00000658044972351542610
-0.406568565604126080
645783.57275126013
4532172.8534942223
