0.406284941029371790
0.00314018471045323780
0.00314687797063438340
-0.406379282601583010
645737.61668443808
4530166.7063036766
