0.406404822888947360
-0.000702184811077950040
-0.000582645770834036920
-0.406781864783106300
645753.96728995210
4510174.7681676382
