0.406346217487844270
-0.00116651930106769090
-0.00112757508024241230
-0.406651545154647800
645755.86532055773
4508178.2722517094
