0.406305128194964560
-0.000500171697619516510
-0.000388532995039928630
-0.406375105776926260
645760.73678852560
4506175.3236791696
