0.406260846913771290
-0.000416094205263998280
-0.000335437939972366660
-0.406416186732603430
645746.42561236641
4504172.6625379128
