0.406259149159741320
-0.000620725482819757190
-0.000619076987012475960
-0.406501780949896030
645784.53398391604
4502171.9461797010
