0.406334190056123590
-0.000660793700513162900
-0.000625425341025013550
-0.406511306220044170
645750.78864898847
4500174.0404934576
