0.406248707013448900
-0.000692203306393836690
-0.000646570209890035860
-0.406383225166321860
643784.35547569382
4532174.4056397518
