0.406339908696925380
-0.000313017348744319570
-0.000167029248615737040
-0.406514176321743690
643778.83094160014
4530174.2745542713
