0.406298268186141790
-0.000542155503730386180
-0.000416710475988157670
-0.406505130598209750
643747.07022024610
4508177.9633432450
