0.406244152330719920
-0.000147136127787550260
-0.000000981969757355796150
-0.406245901638516480
643759.11287991027
4506173.0885127243
