0.406296622828744680
0.000561030333975472940
0.000620525511332271800
-0.406522913192619460
643783.40839661635
4502171.4678682713
