0.406295235537200040
-0.0000413179220161143070
0.0000119597464746459530
-0.406165594647105610
643756.92566437542
4500172.4686903581
