0.406338446986923400
0.000165775442374007140
0.000208234150908343880
-0.406622397536417930
643784.78560113860
4498173.5038626855
